BEGIN:VCALENDAR
VERSION:2.0
PRODID:-//Liberty Disability Services - ECPv6.15.20//NONSGML v1.0//EN
CALSCALE:GREGORIAN
METHOD:PUBLISH
X-WR-CALNAME:Liberty Disability Services
X-ORIGINAL-URL:https://libertydisabilityservices.com.au
X-WR-CALDESC:Events for Liberty Disability Services
REFRESH-INTERVAL;VALUE=DURATION:PT1H
X-Robots-Tag:noindex
X-PUBLISHED-TTL:PT1H
BEGIN:VTIMEZONE
TZID:Australia/Melbourne
BEGIN:STANDARD
TZOFFSETFROM:+1100
TZOFFSETTO:+1000
TZNAME:AEST
DTSTART:20250405T160000
END:STANDARD
BEGIN:DAYLIGHT
TZOFFSETFROM:+1000
TZOFFSETTO:+1100
TZNAME:AEDT
DTSTART:20251004T160000
END:DAYLIGHT
BEGIN:STANDARD
TZOFFSETFROM:+1100
TZOFFSETTO:+1000
TZNAME:AEST
DTSTART:20260404T160000
END:STANDARD
BEGIN:DAYLIGHT
TZOFFSETFROM:+1000
TZOFFSETTO:+1100
TZNAME:AEDT
DTSTART:20261003T160000
END:DAYLIGHT
BEGIN:STANDARD
TZOFFSETFROM:+1100
TZOFFSETTO:+1000
TZNAME:AEST
DTSTART:20270403T160000
END:STANDARD
BEGIN:DAYLIGHT
TZOFFSETFROM:+1000
TZOFFSETTO:+1100
TZNAME:AEDT
DTSTART:20271002T160000
END:DAYLIGHT
END:VTIMEZONE
BEGIN:VEVENT
DTSTART;VALUE=DATE:20260407
DTEND;VALUE=DATE:20260408
DTSTAMP:20260424T085938
CREATED:20260302T004354Z
LAST-MODIFIED:20260302T004354Z
UID:11517-1775520000-1775606399@libertydisabilityservices.com.au
SUMMARY:World Health Day
DESCRIPTION:
URL:https://libertydisabilityservices.com.au/event/world-health-day/
END:VEVENT
BEGIN:VEVENT
DTSTART;VALUE=DATE:20260405
DTEND;VALUE=DATE:20260406
DTSTAMP:20260424T085938
CREATED:20260129T014441Z
LAST-MODIFIED:20260129T014441Z
UID:11404-1775347200-1775433599@libertydisabilityservices.com.au
SUMMARY:Easter Sunday
DESCRIPTION:
URL:https://libertydisabilityservices.com.au/event/easter-sunday/
END:VEVENT
BEGIN:VEVENT
DTSTART;VALUE=DATE:20260402
DTEND;VALUE=DATE:20260403
DTSTAMP:20260424T085938
CREATED:20260129T014417Z
LAST-MODIFIED:20260129T014417Z
UID:11402-1775088000-1775174399@libertydisabilityservices.com.au
SUMMARY:World Autism Awareness Day
DESCRIPTION:
URL:https://libertydisabilityservices.com.au/event/world-autism-awareness-day/
END:VEVENT
BEGIN:VEVENT
DTSTART;TZID=Australia/Melbourne:20260331T130000
DTEND;TZID=Australia/Melbourne:20260331T160000
DTSTAMP:20260424T085938
CREATED:20260122T014244Z
LAST-MODIFIED:20260122T014244Z
UID:11368-1774962000-1774972800@libertydisabilityservices.com.au
SUMMARY:Group- Dungeons And Dragons
DESCRIPTION:
URL:https://libertydisabilityservices.com.au/event/group-dungeons-and-dragons-9/
END:VEVENT
BEGIN:VEVENT
DTSTART;VALUE=DATE:20260331
DTEND;VALUE=DATE:20260401
DTSTAMP:20260424T085938
CREATED:20260129T014113Z
LAST-MODIFIED:20260129T014113Z
UID:11400-1774915200-1775001599@libertydisabilityservices.com.au
SUMMARY:Trans Day of Visibility
DESCRIPTION:
URL:https://libertydisabilityservices.com.au/event/trans-day-of-visibility/
END:VEVENT
BEGIN:VEVENT
DTSTART;TZID=Australia/Melbourne:20260330T130000
DTEND;TZID=Australia/Melbourne:20260330T150000
DTSTAMP:20260424T085938
CREATED:20260120T032026Z
LAST-MODIFIED:20260120T032026Z
UID:11321-1774875600-1774882800@libertydisabilityservices.com.au
SUMMARY:Social Group - Art
DESCRIPTION:Liberty Disability Services \n1 – 3 Agra Street Norlane 3214
URL:https://libertydisabilityservices.com.au/event/social-group-art-9/
END:VEVENT
BEGIN:VEVENT
DTSTART;VALUE=DATE:20260330
DTEND;VALUE=DATE:20260331
DTSTAMP:20260424T085938
CREATED:20260129T014038Z
LAST-MODIFIED:20260129T014038Z
UID:11398-1774828800-1774915199@libertydisabilityservices.com.au
SUMMARY:World Bipolar Day
DESCRIPTION:
URL:https://libertydisabilityservices.com.au/event/world-bipolar-day/
END:VEVENT
BEGIN:VEVENT
DTSTART;VALUE=DATE:20260328
DTEND;VALUE=DATE:20260329
DTSTAMP:20260424T085938
CREATED:20260129T013952Z
LAST-MODIFIED:20260129T013952Z
UID:11396-1774656000-1774742399@libertydisabilityservices.com.au
SUMMARY:Geelong Family Fun Day with Friend In Me
DESCRIPTION:
URL:https://libertydisabilityservices.com.au/event/geelong-family-fun-day-with-friend-in-me/
END:VEVENT
BEGIN:VEVENT
DTSTART;TZID=Australia/Melbourne:20260326T093000
DTEND;TZID=Australia/Melbourne:20260326T113000
DTSTAMP:20260424T085938
CREATED:20260302T005213Z
LAST-MODIFIED:20260302T005213Z
UID:11531-1774517400-1774524600@libertydisabilityservices.com.au
SUMMARY:Growing Together: A Group for Parents
DESCRIPTION:
URL:https://libertydisabilityservices.com.au/event/growing-together-a-group-for-parents-4/
END:VEVENT
BEGIN:VEVENT
DTSTART;TZID=Australia/Melbourne:20260324T130000
DTEND;TZID=Australia/Melbourne:20260324T160000
DTSTAMP:20260424T085938
CREATED:20260122T014221Z
LAST-MODIFIED:20260122T014221Z
UID:11366-1774357200-1774368000@libertydisabilityservices.com.au
SUMMARY:Group- Dungeons And Dragons
DESCRIPTION:
URL:https://libertydisabilityservices.com.au/event/group-dungeons-and-dragons-8/
END:VEVENT
END:VCALENDAR